BEGIN:VCALENDAR
VERSION:2.0
PRODID:-//Västerviks Museum - ECPv6.11.2//NONSGML v1.0//EN
CALSCALE:GREGORIAN
METHOD:PUBLISH
X-ORIGINAL-URL:https://www.vasterviksmuseum.se
X-WR-CALDESC:Händelser för Västerviks Museum
REFRESH-INTERVAL;VALUE=DURATION:PT1H
X-Robots-Tag:noindex
X-PUBLISHED-TTL:PT1H
BEGIN:VTIMEZONE
TZID:Europe/Stockholm
BEGIN:DAYLIGHT
TZOFFSETFROM:+0100
TZOFFSETTO:+0200
TZNAME:CEST
DTSTART:20250330T010000
END:DAYLIGHT
BEGIN:STANDARD
TZOFFSETFROM:+0200
TZOFFSETTO:+0100
TZNAME:CET
DTSTART:20251026T010000
END:STANDARD
END:VTIMEZONE
BEGIN:VEVENT
DTSTART;VALUE=DATE:20251027
DTEND;VALUE=DATE:20251101
DTSTAMP:20260423T110025
CREATED:20251010T124417Z
LAST-MODIFIED:20251013T075618Z
UID:2800-1761523200-1761955199@www.vasterviksmuseum.se
SUMMARY:POTATISLOV
DESCRIPTION:Läslovet – en tid för ledighet\, mysiga läsningar\, kusliga fester. Men dagens lov har inte alltid sett ut så här. Höstlov eller Läslov\, kärt barn har många namn\, men det började faktiskt med namnet Potatislov. \nFrån det att alla barn i Sverige började gå i skolan fram till för ungefär 80 år sedan\, var skollovet på hösten något helt annat än en paus från studierna. Då hette det Potatislovet\, och var till för att barnen skulle hjälpa till med den tunga och viktiga potatisskörden. \nI år bjuder Västerviks Museum in till ett lov i potatisens ära! Under höstlovet öppnar vi upp en tapettryckarverkstad i lekutställningen Samlat & Skramlat. Med inspiration från museets samling av tapeter skapar vi egna med hjälp av potatistryck. \n*med reservation för att fler potatisrelaterade aktiviteter kan förekomma.
URL:https://www.vasterviksmuseum.se/event/potatislov/
LOCATION:Västerviks Museum\, Kulbacken\, Västervik
ATTACH;FMTTYPE=image/gif:https://www.vasterviksmuseum.se/wp-content/uploads/2025/10/45c9217f-3281-478c-b10e-80645c6e3282.gif
END:VEVENT
BEGIN:VEVENT
DTSTART;TZID=Europe/Stockholm:20251024T163000
DTEND;TZID=Europe/Stockholm:20251024T180000
DTSTAMP:20260423T110025
CREATED:20251017T135623Z
LAST-MODIFIED:20251017T135623Z
UID:2814-1761323400-1761328800@www.vasterviksmuseum.se
SUMMARY:Visning av utställningen Bolaget för Westerviks Stads Bästa
DESCRIPTION:Fredagen den 24 oktober klockan 16.30 visar vi utställningen Bolaget för Westerviks Stads Bästa. Bolaget för stadens bästa var ett spritbolag från Västervik som grundades redan 1865. Bolaget verkade för att genom spritförsäljning utveckla staden\, bland annat så bidrog det till byggandet av det nya läroverket 1870. \nKvällens fria entré till utställningen sponsras av det nya Aktiebolaget för Stadens Bästa. Museets övriga utställningar är stängda under evenemanget.  \nUtställningen kommer sedan visas på Västerviks Museum i en vecka\, t.o.m. 31/10.
URL:https://www.vasterviksmuseum.se/event/visning-av-utstallningen-bolaget-for-westerviks-stads-basta/
LOCATION:Västerviks Museum\, Kulbacken\, Västervik
ATTACH;FMTTYPE=image/png:https://www.vasterviksmuseum.se/wp-content/uploads/2025/10/bolag2.png
END:VEVENT
BEGIN:VEVENT
DTSTART;VALUE=DATE:20251022
DTEND;VALUE=DATE:20251024
DTSTAMP:20260423T110025
CREATED:20251007T113551Z
LAST-MODIFIED:20251007T113551Z
UID:2797-1761091200-1761263999@www.vasterviksmuseum.se
SUMMARY:HELA MUSEET ABONNERAT
DESCRIPTION:Onsdagen den 22 oktober\, och torsdagen den 23 oktober är hela museet abonnerat. Vi har även stängt på onsdagskvällen. Välkomna tillbaka till oss kl. 10\, fredagen den 24 oktober.
URL:https://www.vasterviksmuseum.se/event/hela-museet-abonnerat/
ATTACH;FMTTYPE=image/jpeg:https://www.vasterviksmuseum.se/wp-content/uploads/2025/09/hemsida-abonnerat-2-scaled.jpg
END:VEVENT
BEGIN:VEVENT
DTSTART;TZID=Europe/Stockholm:20251015T180000
DTEND;TZID=Europe/Stockholm:20251015T210000
DTSTAMP:20260423T110025
CREATED:20250930T083707Z
LAST-MODIFIED:20250930T083707Z
UID:2790-1760551200-1760562000@www.vasterviksmuseum.se
SUMMARY:En keramisk resa - Föredrag av Per Hammarström
DESCRIPTION:Följ med på en keramisk resa om porslinets historia med keramikern Per ­Hammarström på Brasseri Ava.\nPer är en av de sist kvar­varande keramikerna som arbetat på Gustavsbergs porslins­fabrik. Per arbetade som drejare åt bland annat form­givaren Stig Lindberg och stengodsmästaren Bernt ­Friberg. Efter före­läsningen blir det buffé i restaurangen.\nEntré: 325 kr\nFöreläsning inkl. buffé.\nEndast förköp gäller.\nBiljetter säljs i receptionen och via nortic.se
URL:https://www.vasterviksmuseum.se/event/en-keramisk-resa-foredrag-av-per-hammarstrom/
LOCATION:Brasseri Ava\, Kulbacken\, Västervik\, 593 38\, Sweden
CATEGORIES:Föredrag
ATTACH;FMTTYPE=image/png:https://www.vasterviksmuseum.se/wp-content/uploads/2025/09/Namnlos-2.png
END:VEVENT
BEGIN:VEVENT
DTSTART;TZID=Europe/Stockholm:20251004T140000
DTEND;TZID=Europe/Stockholm:20251004T170000
DTSTAMP:20260423T110025
CREATED:20250923T140729Z
LAST-MODIFIED:20250923T140729Z
UID:2781-1759586400-1759597200@www.vasterviksmuseum.se
SUMMARY:Astronomins dag och natt 2025
DESCRIPTION:Västerviks Museum och GAF Gamleby Amatörastronomers Förening inbjuder till Astronomins dag och natt 2025:\nLördagen den 4 oktober pågår astronomi-aktiviteter på Västerviks Museum kl. 14-17. \nFri entré till museet! Sponsras av ADON. \nFöredrag\, miniutställning\, tipspromenad\, filmvisning\, prata astronomi med GAF. \nKl. 15.00 SOLEN — en besynnerlig stjärna\nFöredrag av Bengt Gustafsson \nVi har länge trott att Solen var en typisk stjärna i vår vintergata. Men nu visar det att Solen har sina egenheter: den är inte en dubbelstjärna vilket de flesta stjärnor faktiskt är\, den är ovanligt tung — 90% av stjärnorna har mindre massa än Solen. Och så har den en kemisk sammansättning som faktiskt avviker från det vanliga. Vad beror detta på? Vad säger det om Solsystemets historia? Och vad säger det om oss själva? \nBengt Gustafsson är professor emeritus i teoretisk astrofysik vid Uppsala universitet. Han forskar om stjärnornas sammansättning och är känd som populärvetenskaplig författare och föreläsare. \nVälkomna!
URL:https://www.vasterviksmuseum.se/event/astronomins-dag-och-natt-2025/
ATTACH;FMTTYPE=image/jpeg:https://www.vasterviksmuseum.se/wp-content/uploads/2025/09/553243256_1421384803328793_6618216768685525357_n.jpg
END:VEVENT
BEGIN:VEVENT
DTSTART;VALUE=DATE:20250925
DTEND;VALUE=DATE:20250926
DTSTAMP:20260423T110025
CREATED:20250909T141902Z
LAST-MODIFIED:20250909T143230Z
UID:2773-1758758400-1758844799@www.vasterviksmuseum.se
SUMMARY:Museet abonnerat
DESCRIPTION:Torsdagen den 25 september är alla museets utställningar abonnerade. Unos torn är öppet som vanligt.
URL:https://www.vasterviksmuseum.se/event/museet-abonnerat-2/
LOCATION:Västerviks Museum\, Kulbacken\, Västervik
ATTACH;FMTTYPE=image/jpeg:https://www.vasterviksmuseum.se/wp-content/uploads/2025/09/hemsida-abonnerat-2-scaled.jpg
END:VEVENT
BEGIN:VEVENT
DTSTART;TZID=Europe/Stockholm:20250924T153000
DTEND;TZID=Europe/Stockholm:20250924T200000
DTSTAMP:20260423T110025
CREATED:20250910T131233Z
LAST-MODIFIED:20250910T131233Z
UID:2778-1758727800-1758744000@www.vasterviksmuseum.se
SUMMARY:Vasakungarnas skepp abonnerad
DESCRIPTION:Onsdagen den 24 september är utställningen Vasakungarnas skepp abonnerad från klockan 15.30. Museets övriga utställningar är öppna som vanligt.
URL:https://www.vasterviksmuseum.se/event/vasakungarnas-skepp-abonnerad-3/
ATTACH;FMTTYPE=image/jpeg:https://www.vasterviksmuseum.se/wp-content/uploads/2025/02/hemsida-abonnerat-Vasakung-foredrag-scaled.jpg
END:VEVENT
BEGIN:VEVENT
DTSTART;VALUE=DATE:20250827
DTEND;VALUE=DATE:20250828
DTSTAMP:20260423T110025
CREATED:20250822T115201Z
LAST-MODIFIED:20250822T115201Z
UID:2768-1756252800-1756339199@www.vasterviksmuseum.se
SUMMARY:Museets utställningar abonnerade
DESCRIPTION:Museets utställningar är abonnerade hela onsdagen den 27 augusti. Reception\, butik och Unos Torn har öppet som vanligt. \nOn August 27\, the museum’s exhibitions will be closed to visitors. The reception\, museum shop\, and Unos Torn will remain open as usual.
URL:https://www.vasterviksmuseum.se/event/museets-utstallningar-abonnerade/
CATEGORIES:Abonneringar
ATTACH;FMTTYPE=image/jpeg:https://www.vasterviksmuseum.se/wp-content/uploads/2025/08/hemsida-abonnerat-1-scaled.jpg
END:VEVENT
BEGIN:VEVENT
DTSTART;TZID=Europe/Stockholm:20250814T130000
DTEND;TZID=Europe/Stockholm:20250814T143000
DTSTAMP:20260423T110025
CREATED:20250616T113019Z
LAST-MODIFIED:20250616T113019Z
UID:2585-1755176400-1755181800@www.vasterviksmuseum.se
SUMMARY:Stadsvandring
DESCRIPTION:Följ med på en spännande stadsvandring med museets kunniga guider och hör berättelsen om staden\, husen och människorna.  \nStadsvandringen startar och avslutas på Stora Torget vid Rådhusets trappa.  \nPris:\nVuxen: 135 kr\nUngdom upp till 18 år: 70 kr\n0-11 år: fri entré \nBiljett köper du via Västerviks Museums reception\, Västerviks Turistbyrå\, eller via nortic.se
URL:https://www.vasterviksmuseum.se/event/stadsvandring-27/
LOCATION:Rådhusets trappa (Turistbyrån)\, Stora torget 4\, Rådhuset\, Västervik\, 593 33
CATEGORIES:Stadsvandring
ATTACH;FMTTYPE=image/png:https://www.vasterviksmuseum.se/wp-content/uploads/2025/06/stadsvandring2-2025-scaled.png
END:VEVENT
BEGIN:VEVENT
DTSTART;TZID=Europe/Stockholm:20250812T103000
DTEND;TZID=Europe/Stockholm:20250812T130000
DTSTAMP:20260423T110025
CREATED:20250616T112247Z
LAST-MODIFIED:20250616T112247Z
UID:2583-1754994600-1755003600@www.vasterviksmuseum.se
SUMMARY:Stadsvandring
DESCRIPTION:Följ med på en spännande stadsvandring med museets kunniga guider och hör berättelsen om staden\, husen och människorna.  \nStadsvandringen startar och avslutas på Stora Torget vid Rådhusets trappa.  \nPris:\nVuxen: 135 kr\nUngdom upp till 18 år: 70 kr\n0-11 år: fri entré \nBiljett köper du via Västerviks Museums reception\, Västerviks Turistbyrå\, eller via nortic.se
URL:https://www.vasterviksmuseum.se/event/stadsvandring-26/
LOCATION:Rådhusets trappa (Turistbyrån)\, Stora torget 4\, Rådhuset\, Västervik\, 593 33
CATEGORIES:Stadsvandring
ATTACH;FMTTYPE=image/png:https://www.vasterviksmuseum.se/wp-content/uploads/2025/06/stadsvandring2-2025-scaled.png
END:VEVENT
BEGIN:VEVENT
DTSTART;TZID=Europe/Stockholm:20250807T130000
DTEND;TZID=Europe/Stockholm:20250807T143000
DTSTAMP:20260423T110025
CREATED:20250616T111742Z
LAST-MODIFIED:20250616T111742Z
UID:2581-1754571600-1754577000@www.vasterviksmuseum.se
SUMMARY:Stadsvandring
DESCRIPTION:Följ med på en spännande stadsvandring med museets kunniga guider och hör berättelsen om staden\, husen och människorna.  \nStadsvandringen startar och avslutas på Stora Torget vid Rådhusets trappa.  \nPris:\nVuxen: 135 kr\nUngdom upp till 18 år: 70 kr\n0-11 år: fri entré \nBiljett köper du via Västerviks Museums reception\, Västerviks Turistbyrå\, eller via nortic.se
URL:https://www.vasterviksmuseum.se/event/stadsvandring-25/
LOCATION:Rådhusets trappa (Turistbyrån)\, Stora torget 4\, Rådhuset\, Västervik\, 593 33
CATEGORIES:Stadsvandring
ATTACH;FMTTYPE=image/png:https://www.vasterviksmuseum.se/wp-content/uploads/2025/06/stadsvandring2-2025-scaled.png
END:VEVENT
BEGIN:VEVENT
DTSTART;TZID=Europe/Stockholm:20250805T103000
DTEND;TZID=Europe/Stockholm:20250805T120000
DTSTAMP:20260423T110025
CREATED:20250616T111619Z
LAST-MODIFIED:20250616T111619Z
UID:2579-1754389800-1754395200@www.vasterviksmuseum.se
SUMMARY:Stadsvandring
DESCRIPTION:Följ med på en spännande stadsvandring med museets kunniga guider och hör berättelsen om staden\, husen och människorna.  \nStadsvandringen startar och avslutas på Stora Torget vid Rådhusets trappa.  \nPris:\nVuxen: 135 kr\nUngdom upp till 18 år: 70 kr\n0-11 år: fri entré \nBiljett köper du via Västerviks Museums reception\, Västerviks Turistbyrå\, eller via nortic.se
URL:https://www.vasterviksmuseum.se/event/stadsvandring-24/
LOCATION:Rådhusets trappa (Turistbyrån)\, Stora torget 4\, Rådhuset\, Västervik\, 593 33
CATEGORIES:Stadsvandring
ATTACH;FMTTYPE=image/png:https://www.vasterviksmuseum.se/wp-content/uploads/2025/06/stadsvandring2-2025-scaled.png
END:VEVENT
BEGIN:VEVENT
DTSTART;TZID=Europe/Stockholm:20250731T130000
DTEND;TZID=Europe/Stockholm:20250731T143000
DTSTAMP:20260423T110025
CREATED:20250616T111448Z
LAST-MODIFIED:20250616T111448Z
UID:2577-1753966800-1753972200@www.vasterviksmuseum.se
SUMMARY:Stadsvandring
DESCRIPTION:Följ med på en spännande stadsvandring med museets kunniga guider och hör berättelsen om staden\, husen och människorna.  \nStadsvandringen startar och avslutas på Stora Torget vid Rådhusets trappa.  \nPris:\nVuxen: 135 kr\nUngdom upp till 18 år: 70 kr\n0-11 år: fri entré \nBiljett köper du via Västerviks Museums reception\, Västerviks Turistbyrå\, eller via nortic.se
URL:https://www.vasterviksmuseum.se/event/stadsvandring-23/
LOCATION:Rådhusets trappa (Turistbyrån)\, Stora torget 4\, Rådhuset\, Västervik\, 593 33
CATEGORIES:Stadsvandring
ATTACH;FMTTYPE=image/png:https://www.vasterviksmuseum.se/wp-content/uploads/2025/06/stadsvandring2-2025-scaled.png
END:VEVENT
BEGIN:VEVENT
DTSTART;TZID=Europe/Stockholm:20250729T103000
DTEND;TZID=Europe/Stockholm:20250729T120000
DTSTAMP:20260423T110025
CREATED:20250616T105234Z
LAST-MODIFIED:20250616T105234Z
UID:2575-1753785000-1753790400@www.vasterviksmuseum.se
SUMMARY:Stadsvandring
DESCRIPTION:Följ med på en spännande stadsvandring med museets kunniga guider och hör berättelsen om staden\, husen och människorna.  \nStadsvandringen startar och avslutas på Stora Torget vid Rådhusets trappa.  \nPris:\nVuxen: 135 kr\nUngdom upp till 18 år: 70 kr\n0-11 år: fri entré \nBiljett köper du via Västerviks Museums reception\, Västerviks Turistbyrå\, eller via nortic.se
URL:https://www.vasterviksmuseum.se/event/stadsvandring-22/
LOCATION:Rådhusets trappa (Turistbyrån)\, Stora torget 4\, Rådhuset\, Västervik\, 593 33
CATEGORIES:Stadsvandring
ATTACH;FMTTYPE=image/png:https://www.vasterviksmuseum.se/wp-content/uploads/2025/06/stadsvandring2-2025-scaled.png
END:VEVENT
BEGIN:VEVENT
DTSTART;TZID=Europe/Stockholm:20250724T130000
DTEND;TZID=Europe/Stockholm:20250724T143000
DTSTAMP:20260423T110025
CREATED:20250616T105045Z
LAST-MODIFIED:20250616T105045Z
UID:2573-1753362000-1753367400@www.vasterviksmuseum.se
SUMMARY:Stadsvandring
DESCRIPTION:Följ med på en spännande stadsvandring med museets kunniga guider och hör berättelsen om staden\, husen och människorna.  \nStadsvandringen startar och avslutas på Stora Torget vid Rådhusets trappa.  \nPris:\nVuxen: 135 kr\nUngdom upp till 18 år: 70 kr\n0-11 år: fri entré \nBiljett köper du via Västerviks Museums reception\, Västerviks Turistbyrå\, eller via nortic.se
URL:https://www.vasterviksmuseum.se/event/stadsvandring-21/
LOCATION:Rådhusets trappa (Turistbyrån)\, Stora torget 4\, Rådhuset\, Västervik\, 593 33
CATEGORIES:Stadsvandring
ATTACH;FMTTYPE=image/png:https://www.vasterviksmuseum.se/wp-content/uploads/2025/06/stadsvandring2-2025-scaled.png
END:VEVENT
BEGIN:VEVENT
DTSTART;TZID=Europe/Stockholm:20250717T130000
DTEND;TZID=Europe/Stockholm:20250717T143000
DTSTAMP:20260423T110025
CREATED:20250616T104928Z
LAST-MODIFIED:20250616T104928Z
UID:2571-1752757200-1752762600@www.vasterviksmuseum.se
SUMMARY:Stadsvandring
DESCRIPTION:Följ med på en spännande stadsvandring med museets kunniga guider och hör berättelsen om staden\, husen och människorna.  \nStadsvandringen startar och avslutas på Stora Torget vid Rådhusets trappa.  \nPris:\nVuxen: 135 kr\nUngdom upp till 18 år: 70 kr\n0-11 år: fri entré \nBiljett köper du via Västerviks Museums reception\, Västerviks Turistbyrå\, eller via nortic.se
URL:https://www.vasterviksmuseum.se/event/stadsvandring-20/
LOCATION:Rådhusets trappa (Turistbyrån)\, Stora torget 4\, Rådhuset\, Västervik\, 593 33
CATEGORIES:Stadsvandring
ATTACH;FMTTYPE=image/png:https://www.vasterviksmuseum.se/wp-content/uploads/2025/06/stadsvandring2-2025-scaled.png
END:VEVENT
BEGIN:VEVENT
DTSTART;TZID=Europe/Stockholm:20250710T130000
DTEND;TZID=Europe/Stockholm:20250710T143000
DTSTAMP:20260423T110025
CREATED:20250616T104725Z
LAST-MODIFIED:20250616T104725Z
UID:2569-1752152400-1752157800@www.vasterviksmuseum.se
SUMMARY:Stadsvandring
DESCRIPTION:Följ med på en spännande stadsvandring med museets kunniga guider och hör berättelsen om staden\, husen och människorna.  \nStadsvandringen startar och avslutas på Stora Torget vid Rådhusets trappa.  \nPris:\nVuxen: 135 kr\nUngdom upp till 18 år: 70 kr\n0-11 år: fri entré \nBiljett köper du via Västerviks Museums reception\, Västerviks Turistbyrå\, eller via nortic.se
URL:https://www.vasterviksmuseum.se/event/stadsvandring-19/
LOCATION:Rådhusets trappa (Turistbyrån)\, Stora torget 4\, Rådhuset\, Västervik\, 593 33
CATEGORIES:Stadsvandring
ATTACH;FMTTYPE=image/png:https://www.vasterviksmuseum.se/wp-content/uploads/2025/06/stadsvandring2-2025-scaled.png
END:VEVENT
BEGIN:VEVENT
DTSTART;TZID=Europe/Stockholm:20250703T130000
DTEND;TZID=Europe/Stockholm:20250703T143000
DTSTAMP:20260423T110025
CREATED:20250616T104519Z
LAST-MODIFIED:20250616T104519Z
UID:2567-1751547600-1751553000@www.vasterviksmuseum.se
SUMMARY:Stadsvandring
DESCRIPTION:Följ med på en spännande stadsvandring med museets kunniga guider och hör berättelsen om staden\, husen och människorna.  \nStadsvandringen startar och avslutas på Stora Torget vid Rådhusets trappa.  \nPris:\nVuxen: 135 kr\nUngdom upp till 18 år: 70 kr\n0-11 år: fri entré \nBiljett köper du via Västerviks Museums reception\, Västerviks Turistbyrå\, eller via nortic.se
URL:https://www.vasterviksmuseum.se/event/stadsvandring-18/
LOCATION:Rådhusets trappa (Turistbyrån)\, Stora torget 4\, Rådhuset\, Västervik\, 593 33
CATEGORIES:Stadsvandring
ATTACH;FMTTYPE=image/png:https://www.vasterviksmuseum.se/wp-content/uploads/2025/06/stadsvandring2-2025-scaled.png
END:VEVENT
BEGIN:VEVENT
DTSTART;TZID=Europe/Stockholm:20250702T133000
DTEND;TZID=Europe/Stockholm:20250702T143000
DTSTAMP:20260423T110025
CREATED:20250623T095535Z
LAST-MODIFIED:20250623T095535Z
UID:2623-1751463000-1751466600@www.vasterviksmuseum.se
SUMMARY:VR-visning
DESCRIPTION:Dyk ned i historien och besök vrakplatsen efter skeppet Mars Makalös med VR. Ta på dig VR-glasögonen och följ med på en guidad tur runt vraket från skeppet. Du får uppleva skeppets storlek\, lära dig om dess konstruktion och vrakets olika delar. Dessutom\, helt utan att bli blöt\, få uppleva ett dyk ned till 75 meters djup i Östersjön. \n  \nDyket ingår i din entrébiljett!\nÅldersgräns 7 år. \n  \nMed reservation för ändringar. Inställd/ändrad tid meddelas i Facebook- och Instagramflöde.
URL:https://www.vasterviksmuseum.se/event/vr-visning-4/
LOCATION:Vasakungarnas Skepp
CATEGORIES:Visning
ATTACH;FMTTYPE=image/png:https://www.vasterviksmuseum.se/wp-content/uploads/2025/06/Dyk-i-historia–-1080x1920-6-scaled.png
END:VEVENT
BEGIN:VEVENT
DTSTART;TZID=Europe/Stockholm:20250701T103000
DTEND;TZID=Europe/Stockholm:20250701T120000
DTSTAMP:20260423T110025
CREATED:20250616T104321Z
LAST-MODIFIED:20250616T104321Z
UID:2565-1751365800-1751371200@www.vasterviksmuseum.se
SUMMARY:Stadsvandring
DESCRIPTION:Följ med på en spännande stadsvandring med museets kunniga guider och hör berättelsen om staden\, husen och människorna.  \nStadsvandringen startar och avslutas på Stora Torget vid Rådhusets trappa.  \nPris:\nVuxen: 135 kr\nUngdom upp till 18 år: 70 kr\n0-11 år: fri entré \nBiljett köper du via Västerviks Museums reception\, Västerviks Turistbyrå\, eller via nortic.se
URL:https://www.vasterviksmuseum.se/event/stadsvandring-17/
LOCATION:Rådhusets trappa (Turistbyrån)\, Stora torget 4\, Rådhuset\, Västervik\, 593 33
CATEGORIES:Stadsvandring
ATTACH;FMTTYPE=image/png:https://www.vasterviksmuseum.se/wp-content/uploads/2025/06/stadsvandring2-2025-scaled.png
END:VEVENT
BEGIN:VEVENT
DTSTART;TZID=Europe/Stockholm:20250627T123000
DTEND;TZID=Europe/Stockholm:20250627T133000
DTSTAMP:20260423T110025
CREATED:20250623T095041Z
LAST-MODIFIED:20250627T085512Z
UID:2620-1751027400-1751031000@www.vasterviksmuseum.se
SUMMARY:INSTÄLLT!! VR-visning
DESCRIPTION:På grund av tekniska svårigheter är VR-dyket inställt idag. Vi beklagar detta. \nDyk ned i historien och besök vrakplatsen efter skeppet Mars Makalös med VR. Ta på dig VR-glasögonen och följ med på en guidad tur runt vraket från skeppet. Du får uppleva skeppets storlek\, lära dig om dess konstruktion och vrakets olika delar. Dessutom\, helt utan att bli blöt\, få uppleva ett dyk ned till 75 meters djup i Östersjön. \n  \nDyket ingår i din entrébiljett!\nÅldersgräns 7 år. \n  \nMed reservation för ändringar. Inställd/ändrad tid meddelas i Facebook- och Instagramflöde.
URL:https://www.vasterviksmuseum.se/event/vr-visning-3/
LOCATION:Vasakungarnas Skepp
CATEGORIES:Visning
ATTACH;FMTTYPE=image/png:https://www.vasterviksmuseum.se/wp-content/uploads/2025/06/Dyk-i-historia–-1080x1920-6-scaled.png
END:VEVENT
BEGIN:VEVENT
DTSTART;TZID=Europe/Stockholm:20250626T130000
DTEND;TZID=Europe/Stockholm:20250626T143000
DTSTAMP:20260423T110025
CREATED:20250616T093215Z
LAST-MODIFIED:20250616T093431Z
UID:2562-1750942800-1750948200@www.vasterviksmuseum.se
SUMMARY:Stadsvandring
DESCRIPTION:Följ med på en spännande stadsvandring med museets kunniga guider och hör berättelsen om staden\, husen och människorna.  \nStadsvandringen startar och avslutas på Stora Torget vid Rådhusets trappa.  \nPris:\nVuxen: 135 kr\nUngdom upp till 18 år: 70 kr\n0-11 år: fri entré \nBiljett köper du via Västerviks Museums reception\, Västerviks Turistbyrå\, eller via nortic.se
URL:https://www.vasterviksmuseum.se/event/stadsvandring-16/
LOCATION:Rådhusets trappa (Turistbyrån)\, Stora torget 4\, Rådhuset\, Västervik\, 593 33
CATEGORIES:Stadsvandring
ATTACH;FMTTYPE=image/png:https://www.vasterviksmuseum.se/wp-content/uploads/2025/06/stadsvandring2-2025-scaled.png
END:VEVENT
BEGIN:VEVENT
DTSTART;TZID=Europe/Stockholm:20250625T133000
DTEND;TZID=Europe/Stockholm:20250625T143000
DTSTAMP:20260423T110025
CREATED:20250623T094742Z
LAST-MODIFIED:20250623T095430Z
UID:2617-1750858200-1750861800@www.vasterviksmuseum.se
SUMMARY:VR-visning
DESCRIPTION:Dyk ned i historien och besök vrakplatsen efter skeppet Mars Makalös med VR. Ta på dig VR-glasögonen och följ med på en guidad tur runt vraket från skeppet. Du får uppleva skeppets storlek\, lära dig om dess konstruktion och vrakets olika delar. Dessutom\, helt utan att bli blöt\, få uppleva ett dyk ned till 75 meters djup i Östersjön. \n  \nDyket ingår i din entrébiljett!\nÅldersgräns 7 år. \n  \nMed reservation för ändringar. Inställd/ändrad tid meddelas i Facebook- och Instagramflöde.
URL:https://www.vasterviksmuseum.se/event/vr-visning-2/
LOCATION:Vasakungarnas Skepp
CATEGORIES:Visning
ATTACH;FMTTYPE=image/png:https://www.vasterviksmuseum.se/wp-content/uploads/2025/06/Dyk-i-historia–-1080x1920-6-scaled.png
END:VEVENT
BEGIN:VEVENT
DTSTART;TZID=Europe/Stockholm:20250624T103000
DTEND;TZID=Europe/Stockholm:20250624T120000
DTSTAMP:20260423T110025
CREATED:20250616T092623Z
LAST-MODIFIED:20250616T093452Z
UID:2555-1750761000-1750766400@www.vasterviksmuseum.se
SUMMARY:Stadsvandring
DESCRIPTION:Följ med på en spännande stadsvandring med museets kunniga guider och hör berättelsen om staden\, husen och människorna.  \nStadsvandringen startar och avslutas på Stora Torget vid Rådhusets trappa.  \nPris:\nVuxen: 135 kr\nUngdom upp till 18 år: 70 kr\n0-11 år: fri entré \nBiljett köper du via Västerviks Museums reception\, Västerviks Turistbyrå\, eller via nortic.se
URL:https://www.vasterviksmuseum.se/event/stadsvandring-15/
LOCATION:Rådhusets trappa (Turistbyrån)\, Stora torget 4\, Rådhuset\, Västervik\, 593 33
CATEGORIES:Stadsvandring
ATTACH;FMTTYPE=image/png:https://www.vasterviksmuseum.se/wp-content/uploads/2025/06/stadsvandring2-2025-scaled.png
END:VEVENT
BEGIN:VEVENT
DTSTART;VALUE=DATE:20250620
DTEND;VALUE=DATE:20250621
DTSTAMP:20260423T110025
CREATED:20250218T134433Z
LAST-MODIFIED:20250414T110802Z
UID:2393-1750377600-1750463999@www.vasterviksmuseum.se
SUMMARY:Museet stängt midsommarafton
DESCRIPTION:Museet är stängt midsommarafton\, fredagen den 20 juni. Vi öppnar igen måndagen den 23 juni kl. 10.
URL:https://www.vasterviksmuseum.se/event/museet-stangt-5/
ATTACH;FMTTYPE=image/jpeg:https://www.vasterviksmuseum.se/wp-content/uploads/2025/02/midsommar-hemsida-scaled.jpg
END:VEVENT
BEGIN:VEVENT
DTSTART;VALUE=DATE:20250606
DTEND;VALUE=DATE:20250607
DTSTAMP:20260423T110025
CREATED:20250218T134123Z
LAST-MODIFIED:20250414T110624Z
UID:2390-1749168000-1749254399@www.vasterviksmuseum.se
SUMMARY:Museet stängt nationaldagen
DESCRIPTION:Museet är stängt nationaldagen\, den 6 juni. Vi öppnar igen måndagen den 9 juni kl. 10.
URL:https://www.vasterviksmuseum.se/event/museet-stangt-4/
ATTACH;FMTTYPE=image/jpeg:https://www.vasterviksmuseum.se/wp-content/uploads/2025/02/nationaldagen-hemsidan-scaled.jpg
END:VEVENT
BEGIN:VEVENT
DTSTART;VALUE=DATE:20250529
DTEND;VALUE=DATE:20250530
DTSTAMP:20260423T110025
CREATED:20250218T133630Z
LAST-MODIFIED:20250414T110405Z
UID:2386-1748476800-1748563199@www.vasterviksmuseum.se
SUMMARY:Museet stängt Kristi himmelfärdsdag
DESCRIPTION:Museet har stängt torsdagen den 29 maj\, Kristi himmelsfärdsdag. Vi öppnar igen fredagen den 30 maj kl. 10.
URL:https://www.vasterviksmuseum.se/event/museet-stangt-3/
ATTACH;FMTTYPE=image/jpeg:https://www.vasterviksmuseum.se/wp-content/uploads/2025/02/kristihimmelsfard-hemsida-scaled.jpg
END:VEVENT
BEGIN:VEVENT
DTSTART;TZID=Europe/Stockholm:20250518T110000
DTEND;TZID=Europe/Stockholm:20250518T140000
DTSTAMP:20260423T110025
CREATED:20250512T085421Z
LAST-MODIFIED:20250512T085421Z
UID:2471-1747566000-1747576800@www.vasterviksmuseum.se
SUMMARY:Söndagsöppet
DESCRIPTION:Vi presenterar stolt vår nya utställning Sparat & Förvarat\, som visar upp föremål ur våra samlingar. I den pedagogiska delen av utställningen\, Samlat & Skramlat får våra unga besökare uppleva olika delar av barns liv i en blandning av tider genom scenografi\, verkliga föremål och berättelser.   \nI utställningen Vasakungarnas skepp pågår VR-guidning under dagen. Åldersgräns för VR – ca 6 år.  \nUnos torn har öppet 11-13.30.  \nVarmt välkomna!
URL:https://www.vasterviksmuseum.se/event/sondagsoppet-2/
ATTACH;FMTTYPE=image/jpeg:https://www.vasterviksmuseum.se/wp-content/uploads/2025/05/70X100_SPARA-scaled.jpg
END:VEVENT
BEGIN:VEVENT
DTSTART;TZID=Europe/Stockholm:20250507T173000
DTEND;TZID=Europe/Stockholm:20250507T200000
DTSTAMP:20260423T110025
CREATED:20250507T113438Z
LAST-MODIFIED:20250507T113438Z
UID:2469-1746639000-1746648000@www.vasterviksmuseum.se
SUMMARY:Vasakungarnas skepp är abonnerad 17.30-20.00
DESCRIPTION:Utställningen Vasakungarnas skepp är abonnerad från 17.30. Butiken och utställningarna Sjöfartshallen och Samlat & Skramlat har öppet som vanligt.
URL:https://www.vasterviksmuseum.se/event/vasakungarnas-skepp-ar-abonnerad-17-30-20-00/
ATTACH;FMTTYPE=image/jpeg:https://www.vasterviksmuseum.se/wp-content/uploads/2025/02/hemsida-abonnerat-Vasakung-foredrag-scaled.jpg
END:VEVENT
BEGIN:VEVENT
DTSTART;VALUE=DATE:20250430
DTEND;VALUE=DATE:20250502
DTSTAMP:20260423T110025
CREATED:20250218T131907Z
LAST-MODIFIED:20250414T110021Z
UID:2383-1745971200-1746143999@www.vasterviksmuseum.se
SUMMARY:Museet stängt Valborg och första maj
DESCRIPTION:Museet har stängt Valborgsmässoafton den 30 april\, samt första maj. Vi öppnar igen fredagen den 2 maj kl. 10.
URL:https://www.vasterviksmuseum.se/event/museet-stangt-2/
ATTACH;FMTTYPE=image/jpeg:https://www.vasterviksmuseum.se/wp-content/uploads/2025/02/valborg-hemsida-scaled.jpg
END:VEVENT
END:VCALENDAR