BEGIN:VCALENDAR
VERSION:2.0
PRODID:-//Västerviks Museum - ECPv6.11.2//NONSGML v1.0//EN
CALSCALE:GREGORIAN
METHOD:PUBLISH
X-ORIGINAL-URL:https://www.vasterviksmuseum.se
X-WR-CALDESC:Händelser för Västerviks Museum
REFRESH-INTERVAL;VALUE=DURATION:PT1H
X-Robots-Tag:noindex
X-PUBLISHED-TTL:PT1H
BEGIN:VTIMEZONE
TZID:Europe/Stockholm
BEGIN:DAYLIGHT
TZOFFSETFROM:+0100
TZOFFSETTO:+0200
TZNAME:CEST
DTSTART:20240331T010000
END:DAYLIGHT
BEGIN:STANDARD
TZOFFSETFROM:+0200
TZOFFSETTO:+0100
TZNAME:CET
DTSTART:20241027T010000
END:STANDARD
END:VTIMEZONE
BEGIN:VEVENT
DTSTART;TZID=Europe/Stockholm:20241229T110000
DTEND;TZID=Europe/Stockholm:20241229T140000
DTSTAMP:20260423T155646
CREATED:20241209T123302Z
LAST-MODIFIED:20241209T123302Z
UID:2296-1735470000-1735480800@www.vasterviksmuseum.se
SUMMARY:Söndagsöppet med VR-guidning
DESCRIPTION:Passa på att med hjälp av VR-glasögon dyka ner till vraket Mars! VR-guidningarna pågår i utställningen Vaasakungarnas skepp från klockan 11 till 13.30 och ingår i entréavgiften. Roligt för både barn och vuxna!\nÅlder: Från ca 6 år.  \nUnos torn är öppet 11-13.30.
URL:https://www.vasterviksmuseum.se/event/sondagsoppet-med-vr-guidning-2/
LOCATION:Västerviks Museum\, Kulbacken\, Västervik
ATTACH;FMTTYPE=image/jpeg:https://www.vasterviksmuseum.se/wp-content/uploads/2023/06/A0P1008.jpg
END:VEVENT
BEGIN:VEVENT
DTSTART;VALUE=DATE:20241223
DTEND;VALUE=DATE:20241229
DTSTAMP:20260423T155646
CREATED:20241209T122101Z
LAST-MODIFIED:20241209T124826Z
UID:2294-1734912000-1735430399@www.vasterviksmuseum.se
SUMMARY:Museet har julstängt
DESCRIPTION:Västerviks Museum tar julledigt 23/12-28/12 och har öppet igen söndagen den 29/12.
URL:https://www.vasterviksmuseum.se/event/museet-har-stangt/
ATTACH;FMTTYPE=image/jpeg:https://www.vasterviksmuseum.se/wp-content/uploads/2024/10/A0P0094.jpg
END:VEVENT
BEGIN:VEVENT
DTSTART;TZID=Europe/Stockholm:20241218T180000
DTEND;TZID=Europe/Stockholm:20241218T183000
DTSTAMP:20260423T155646
CREATED:20241113T104047Z
LAST-MODIFIED:20241113T104047Z
UID:2284-1734544800-1734546600@www.vasterviksmuseum.se
SUMMARY:Visning - Vasakungarnas skepp
DESCRIPTION:Är du nyfiken på kungar\, skeppsvrak\, slag och sjöfart? Under visningen får du dyka ned i historien och utforska skeppsvrak från 1500-talet. Välkommen till ett kungligt äventyr! Efter visningen har du möjlighet att dyka ned till vraket Mars Makalös med VR. \nDyk med VR. Åldersgräns 7 år. \nVisningen ingår i entrépriset.
URL:https://www.vasterviksmuseum.se/event/visning-vasakungarnas-skepp-3/
LOCATION:Västerviks Museum\, Kulbacken\, Västervik
ATTACH;FMTTYPE=image/png:https://www.vasterviksmuseum.se/wp-content/uploads/2024/11/A0P1276.png
END:VEVENT
BEGIN:VEVENT
DTSTART;TZID=Europe/Stockholm:20241215T110000
DTEND;TZID=Europe/Stockholm:20241215T140000
DTSTAMP:20260423T155646
CREATED:20241129T090707Z
LAST-MODIFIED:20241129T090707Z
UID:2290-1734260400-1734271200@www.vasterviksmuseum.se
SUMMARY:Söndagsöppet och visning av Vasakungarnas skepp
DESCRIPTION:Är du nyfiken på kungar\, skeppsvrak\, slag och sjöfart? Under visningen får du dyka ned i historien och utforska skeppsvrak från 1500-talet. Välkommen till ett kungligt äventyr! \nHär finns även möjlighet att köpa julklappar i vår museibutik\, en bok\, en pryl eller presentkort. \n  \nVisningen är ca 30 min och ingår i entrépriset.
URL:https://www.vasterviksmuseum.se/event/sondagsoppet-och-visning-av-vasakungarnas-skepp/
LOCATION:Västerviks Museum\, Kulbacken\, Västervik
ATTACH;FMTTYPE=image/jpeg:https://www.vasterviksmuseum.se/wp-content/uploads/2024/11/A0P1191.jpg
END:VEVENT
BEGIN:VEVENT
DTSTART;TZID=Europe/Stockholm:20241211T180000
DTEND;TZID=Europe/Stockholm:20241211T183000
DTSTAMP:20260423T155646
CREATED:20241113T111711Z
LAST-MODIFIED:20241113T111711Z
UID:2286-1733940000-1733941800@www.vasterviksmuseum.se
SUMMARY:Visning - Alice Babs född till musik
DESCRIPTION:Upptäck Alice Babs spännande resa från barndomens första framträdanden till den stora världsscenen. En unik utställning om musiken\, livet och filmerna! \nVisningen ingår i entrépriset.
URL:https://www.vasterviksmuseum.se/event/visning-alice-babs-fodd-till-musik/
LOCATION:Västerviks Museum\, Kulbacken\, Västervik
ATTACH;FMTTYPE=image/png:https://www.vasterviksmuseum.se/wp-content/uploads/2024/11/A0P0205d.png
END:VEVENT
BEGIN:VEVENT
DTSTART;TZID=Europe/Stockholm:20241204T180000
DTEND;TZID=Europe/Stockholm:20241204T183000
DTSTAMP:20260423T155646
CREATED:20241113T103724Z
LAST-MODIFIED:20241113T103724Z
UID:2282-1733335200-1733337000@www.vasterviksmuseum.se
SUMMARY:Visning - Vasakungarnas skepp
DESCRIPTION:Är du nyfiken på kungar\, skeppsvrak\, slag och sjöfart? Under visningen får du dyka ned i historien och utforska skeppsvrak från 1500-talet. Välkommen till ett kungligt äventyr! Efter visningen har du möjlighet att dyka ned till vraket Mars Makalös med VR. \nDyk med VR. Åldersgräns 7 år. \nVisningen ingår i entrépriset.
URL:https://www.vasterviksmuseum.se/event/visning-vasakungarnas-skepp-2/
LOCATION:Västerviks Museum\, Kulbacken\, Västervik
CATEGORIES:Visning
ATTACH;FMTTYPE=image/png:https://www.vasterviksmuseum.se/wp-content/uploads/2024/11/A0P1276.png
END:VEVENT
BEGIN:VEVENT
DTSTART;TZID=Europe/Stockholm:20241127T180000
DTEND;TZID=Europe/Stockholm:20241127T183000
DTSTAMP:20260423T155646
CREATED:20241113T103538Z
LAST-MODIFIED:20241113T103538Z
UID:2277-1732730400-1732732200@www.vasterviksmuseum.se
SUMMARY:Visning - Vasakungarnas skepp
DESCRIPTION:Är du nyfiken på kungar\, skeppsvrak\, slag och sjöfart? Under visningen får du dyka ned i historien och utforska skeppsvrak från 1500-talet. Välkommen till ett kungligt äventyr! Efter visningen har du möjlighet att dyka ned till vraket Mars Makalös med VR. \nDyk med VR. Åldersgräns 7 år. \nVisningen ingår i entrépriset. \n 
URL:https://www.vasterviksmuseum.se/event/visning-vasakungarnas-skepp/
LOCATION:Västerviks Museum\, Kulbacken\, Västervik
CATEGORIES:Visning
ATTACH;FMTTYPE=image/png:https://www.vasterviksmuseum.se/wp-content/uploads/2024/11/A0P1276.png
END:VEVENT
BEGIN:VEVENT
DTSTART;TZID=Europe/Stockholm:20241121T180000
DTEND;TZID=Europe/Stockholm:20241121T200000
DTSTAMP:20260423T155646
CREATED:20241031T090649Z
LAST-MODIFIED:20241031T090649Z
UID:2233-1732212000-1732219200@www.vasterviksmuseum.se
SUMMARY:Föredrag: K-märkta fartyg\, en del av vår historia
DESCRIPTION:Karolina Matts\, intendent på Sjöhistoriska museet med inriktning på det maritima kulturarvet berättar om K-märkningen av fartyg i Sverige. \nVarje fartyg har sin egen historia men är ofta också en del av något större. Runt omkring i Sverige finns det ett hundratal fartyg och båtar som varit delaktiga i Sveriges historia. Det är fartyg som till exempel transporterat mat och byggmaterial eller passagerare. Det finns båtar byggda för att bogsera och varpa timmer fram till sågverk och pappersbruk och olika slags fiskefartyg som är byggda och anpassade för olika fisken i olika vatten och slutligen fartyg som varit del av Sveriges sjöförsvar. Många av de här fartygen har förändrats så lite genom åren att de nu har stora pedagogiska värden\, men också ett genuint upplevelsevärde. Dessa fartyg kan Sjöhistoriska museet k-märka.  \nNågra av de här fartygen och deras historia kommer att presenteras under föredraget.
URL:https://www.vasterviksmuseum.se/event/foredrag-k-markta-fartyg-en-del-av-var-historia/
LOCATION:Västerviks Museum\, Kulbacken\, Västervik
ATTACH;FMTTYPE=image/jpeg:https://www.vasterviksmuseum.se/wp-content/uploads/2024/10/K-markta-fartyg-bild.jpg
END:VEVENT
BEGIN:VEVENT
DTSTART;VALUE=DATE:20241118
DTEND;VALUE=DATE:20241123
DTSTAMP:20260423T155646
CREATED:20241031T103749Z
LAST-MODIFIED:20241031T103749Z
UID:2237-1731888000-1732319999@www.vasterviksmuseum.se
SUMMARY:Vasakungarnas skepp: Stängd vecka 47
DESCRIPTION:Utställningen Vasakungarnas skepp kommer att vara stängd under vecka 47\,  den 18/11 – 22/11\, för förberedelse och installation av nya föremål.  \n Museet med resterande utställningar har öppet som vanligt. Ni är alla varmt välkomna tillbaka till utställningen Vasakungarnas skepp måndagen den 25/11!
URL:https://www.vasterviksmuseum.se/event/vasakungarnas-skepp-stangd-vecka-47/
ATTACH;FMTTYPE=image/jpeg:https://www.vasterviksmuseum.se/wp-content/uploads/2023/06/A0P1415.jpg
END:VEVENT
BEGIN:VEVENT
DTSTART;TZID=Europe/Stockholm:20241113T180000
DTEND;TZID=Europe/Stockholm:20241113T200000
DTSTAMP:20260423T155646
CREATED:20241014T134806Z
LAST-MODIFIED:20241112T085254Z
UID:2200-1731520800-1731528000@www.vasterviksmuseum.se
SUMMARY:Föredrag: Första hjälpen för ödehus!
DESCRIPTION:Nyfiken på byggnadsvård? Välkomna till en kväll i bevarandets\ntecken\, med ödehusens förste beskyddare\, Robert Danielsson.\nEn efterfrågad föredragshållare om ödehus­räddning i praktiken\, och initiativtagare till den växande ­rörelsen som vill rädda över­givna hus från att gå förlorade. Robert\, som utsågs till årets landsbygdsutvecklare 2021\, berättar hur ett liv på landsbygden kan vara både hållbart och klimatsmart. Nu kommer han till Västerviks Museum och delar med sig av sina erfarenheter. Varmt välkomna! \nPris: 150 kr (Inklusive kaffe/te och fralla)\nFörköp via länken under ”webbplats”.
URL:https://www.vasterviksmuseum.se/event/foredrag-forsta-hjalpen-for-odehus/
LOCATION:Västerviks Museum\, Kulbacken\, Västervik
ATTACH;FMTTYPE=image/png:https://www.vasterviksmuseum.se/wp-content/uploads/2024/10/Namnlos-56.png
END:VEVENT
BEGIN:VEVENT
DTSTART;TZID=Europe/Stockholm:20241030T120000
DTEND;TZID=Europe/Stockholm:20241030T200000
DTSTAMP:20260423T155646
CREATED:20241015T092022Z
LAST-MODIFIED:20241015T092533Z
UID:2216-1730289600-1730318400@www.vasterviksmuseum.se
SUMMARY:Höstlov onsdag
DESCRIPTION:Under höstlovet bjuder vi på extra roliga aktiviteter! Sväng loss till jazziga toner\, dyk ner till havets botten och upptäck sekel av historia.  \n  \nProgram\n12.00-12.30 Visning ”Stenkaka till molntjänst”\n12.30-13.00 Visning ”Stenkaka till molntjänst”\n13.00-15.00 VR-visning ”Dyk på Mars”\n17.30-19.30 VR-visning ”Dyk på Mars” \n  \nSTENKAKA TILL MOLNTJÄNST\nFölj med på en visning för att lyssna\, se och testa några av de mackapärer som uppfunnits för att musik ska finnas hemma i husen. \nVR-DYKNING\nDyk ned till vraket Mars Makalös. En VRupplevelse i Vasakungarnas skepp. Dykningen tar ca 5 min. Åldersgräns 7 år.
URL:https://www.vasterviksmuseum.se/event/hostlov-onsdag/
ATTACH;FMTTYPE=image/jpeg:https://www.vasterviksmuseum.se/wp-content/uploads/2024/10/Alice-Babs-275-scaled-e1728982169403.jpg
END:VEVENT
BEGIN:VEVENT
DTSTART;TZID=Europe/Stockholm:20241029T100000
DTEND;TZID=Europe/Stockholm:20241029T163000
DTSTAMP:20260423T155646
CREATED:20241015T092035Z
LAST-MODIFIED:20241015T092210Z
UID:2214-1730196000-1730219400@www.vasterviksmuseum.se
SUMMARY:Höstlov tisdag
DESCRIPTION:Under höstlovet bjuder vi på extra roliga aktiviteter! Sväng loss till jazziga toner\, dyk ner till havets botten och upptäck sekel av historia.  \n  \nProgram\n10.00-10.30 Visning ”Stenkaka till molntjänst”\n10.00-11.30 VR-visning ”Dyk på Mars”\n11.00-11.30 Visning ”Stenkaka till molntjänst”\n12.30-13.00 Visning ”Stenkaka till molntjänst”\n14.00-16.00 VR-visning ”Dyk på Mars” \n  \nSTENKAKA TILL MOLNTJÄNST\nFölj med på en visning för att lyssna\, se och testa några av de mackapärer som uppfunnits för att musik ska finnas hemma i husen. \nVR-DYKNING\nDyk ned till vraket Mars Makalös. En VRupplevelse i Vasakungarnas skepp. Dykningen tar ca 5 min. Åldersgräns 7 år. \n  \nFritidsgrupper bokar besök enligt information som skickats ut till skolorna.
URL:https://www.vasterviksmuseum.se/event/hostlov-tisdag/
ATTACH;FMTTYPE=image/jpeg:https://www.vasterviksmuseum.se/wp-content/uploads/2024/10/Alice-Babs-275-scaled-e1728982169403.jpg
END:VEVENT
BEGIN:VEVENT
DTSTART;TZID=Europe/Stockholm:20241028T100000
DTEND;TZID=Europe/Stockholm:20241028T163000
DTSTAMP:20260423T155646
CREATED:20241015T092010Z
LAST-MODIFIED:20241015T092300Z
UID:2206-1730109600-1730133000@www.vasterviksmuseum.se
SUMMARY:Höstlov måndag
DESCRIPTION:Under höstlovet bjuder vi på extra roliga aktiviteter! Sväng loss till jazziga toner\, dyk ner till havets botten och upptäck sekel av historia.  \n  \nProgram\n10.00-10.30 Visning ”Stenkaka till molntjänst”\n10.00-11.30 VR-visning ”Dyk på Mars”\n11:00 KulturZkolanz jazzensemble + prova blåsinstrument\n12.30-13.00 Visning ”Stenkaka till molntjänst”\n13.00 KulturZkolanz jazzensemble + prova blåsinstrument\n14.00-16.00 VR-visning ”Dyk på Mars” \n  \nDIGGA TILL JAZZ KL 11 & 13\nKulturZkolanz jazzensemble bjuder in till en svängig stund med live musik i utställningen om Alice Babs. \nPROVA BLÅSET KL 11- 13\nUpptäck blåsinstrumentens värld tillsammans med Kulturskolan. Testa din lungkapacitet och försök blåsa ljud i de allra jazzigaste instrumenten. \nSTENKAKA TILL MOLNTJÄNST\nFölj med på en visning för att lyssna\, se och testa några av de mackapärer som uppfunnits för att musik ska finnas hemma i husen. \nVR-DYKNING\nDyk ned till vraket Mars Makalös. En VRupplevelse i Vasakungarnas skepp. Dykningen tar ca 5 min. Åldersgräns 7 år. \n  \nFritidsgrupper bokar besök enligt information som skickats ut till skolorna.
URL:https://www.vasterviksmuseum.se/event/hostlov-mandag/
ATTACH;FMTTYPE=image/jpeg:https://www.vasterviksmuseum.se/wp-content/uploads/2024/10/Alice-Babs-275-scaled-e1728982169403.jpg
END:VEVENT
BEGIN:VEVENT
DTSTART;TZID=Europe/Stockholm:20241027T110000
DTEND;TZID=Europe/Stockholm:20241027T140000
DTSTAMP:20260423T155646
CREATED:20241015T092732Z
LAST-MODIFIED:20241015T092732Z
UID:2228-1730026800-1730037600@www.vasterviksmuseum.se
SUMMARY:Höstlov söndag
DESCRIPTION:Under höstlovet bjuder vi på extra roliga aktiviteter! Sväng loss till jazziga toner\, dyk ner till havets botten och upptäck sekel av historia. \n  \nProgram\n11.00-13.30 VR-visning ”Dyk på Mars” \n  \nVR-DYKNING\nDyk ned till vraket Mars Makalös. En VRupplevelse i Vasakungarnas skepp. Dykningen tar ca 5 min. Åldersgräns 7 år.
URL:https://www.vasterviksmuseum.se/event/hostlov-sondag/
ATTACH;FMTTYPE=image/jpeg:https://www.vasterviksmuseum.se/wp-content/uploads/2024/10/Alice-Babs-275-scaled-e1728982169403.jpg
END:VEVENT
BEGIN:VEVENT
DTSTART;TZID=Europe/Stockholm:20241016T170000
DTEND;TZID=Europe/Stockholm:20241016T190000
DTSTAMP:20260423T155646
CREATED:20241010T125605Z
LAST-MODIFIED:20241010T125605Z
UID:2197-1729098000-1729105200@www.vasterviksmuseum.se
SUMMARY:VR - Visning
DESCRIPTION:Dyk i historia! \nPå onsdag 16/10 kl 17.00 – 19.00 är det VR-visning i utställningen Vasakungarnas Skepp! Ta chansen att dyka ned till vraket av 1500-talsskeppet Mars Makalös.
URL:https://www.vasterviksmuseum.se/event/vr-visning/
ATTACH;FMTTYPE=image/jpeg:https://www.vasterviksmuseum.se/wp-content/uploads/2023/07/Mars-700-mm-scaled.jpg
END:VEVENT
BEGIN:VEVENT
DTSTART;TZID=Europe/Stockholm:20241009T180000
DTEND;TZID=Europe/Stockholm:20241009T190000
DTSTAMP:20260423T155646
CREATED:20240923T094459Z
LAST-MODIFIED:20240923T094546Z
UID:2175-1728496800-1728500400@www.vasterviksmuseum.se
SUMMARY:Föredrag - Lars Soldéus
DESCRIPTION:En skärgårdsskuta kommer lastad \nFörfattaren Lars Soldéus tar oss med på en tidsresa\, från 1200-talets Stockholm\, till dagens urbana huvud­stad. Hör om hur skärgårdsböndernas seglation till Stockholm med viktualier\, levande fisk\, ved och sand påverkat Västervik genom tiderna. \nVälkomna till en spännande föreläsning på Västerviks Museum.\nInträde betalas vid entrén.
URL:https://www.vasterviksmuseum.se/event/foredrag-lars-soldeus/
LOCATION:Västerviks Museum\, Kulbacken\, Västervik
ATTACH;FMTTYPE=image/jpeg:https://www.vasterviksmuseum.se/wp-content/uploads/2024/09/Lars.jpg
END:VEVENT
BEGIN:VEVENT
DTSTART;VALUE=DATE:20240919
DTEND;VALUE=DATE:20240920
DTSTAMP:20260423T155646
CREATED:20240820T113252Z
LAST-MODIFIED:20240820T113252Z
UID:2171-1726704000-1726790399@www.vasterviksmuseum.se
SUMMARY:Museet stängt 19/9
DESCRIPTION:Den 19/9 är museet abonnerat och därmed stängt för allmänheten. Ni är välkomna tillbaka den 20/9 kl. 10-16:30!
URL:https://www.vasterviksmuseum.se/event/museet-stangt-19-9/
CATEGORIES:Abonneringar
ATTACH;FMTTYPE=image/jpeg:https://www.vasterviksmuseum.se/wp-content/uploads/2024/01/A0P0191.jpg
END:VEVENT
BEGIN:VEVENT
DTSTART;VALUE=DATE:20240917
DTEND;VALUE=DATE:20240918
DTSTAMP:20260423T155646
CREATED:20240820T113006Z
LAST-MODIFIED:20240820T113006Z
UID:2169-1726531200-1726617599@www.vasterviksmuseum.se
SUMMARY:Museet stängt 17/9
DESCRIPTION:Den 17/9 är museet abonnerat och därmed stängt för allmänheten. Ni är välkomna tillbaka den 18/9 kl. 10-16:30!
URL:https://www.vasterviksmuseum.se/event/museet-stangt-17-9/
CATEGORIES:Abonneringar
ATTACH;FMTTYPE=image/jpeg:https://www.vasterviksmuseum.se/wp-content/uploads/2024/01/A0P0188.jpg
END:VEVENT
BEGIN:VEVENT
DTSTART;TZID=Europe/Stockholm:20240814T101500
DTEND;TZID=Europe/Stockholm:20240814T114500
DTSTAMP:20260423T155646
CREATED:20240520T112325Z
LAST-MODIFIED:20240520T112325Z
UID:2002-1723630500-1723635900@www.vasterviksmuseum.se
SUMMARY:Stadsvandring
DESCRIPTION:Vill du veta mer om Västerviks historia?  Följ med på en spännande stadsvandring med Västerviks Museums kunniga guider och hör berättelser om staden\, husen\noch människorna. \nPris:\nVuxen: 135 kr\nUngdom 12-18 år: 70kr\nBarn under 12 år – fri entré utan platsbokning.\n\nKöp biljett: \nVästerviks Museum\nTuristbyrån\nNortic.se
URL:https://www.vasterviksmuseum.se/event/stadsvandring-14/
LOCATION:Rådhusets trappa (Turistbyrån)\, Stora torget 4\, Rådhuset\, Västervik\, 593 33
CATEGORIES:Stadsvandring
ATTACH;FMTTYPE=image/jpeg:https://www.vasterviksmuseum.se/wp-content/uploads/2023/07/A0P1229.jpg
END:VEVENT
BEGIN:VEVENT
DTSTART;TZID=Europe/Stockholm:20240807T101500
DTEND;TZID=Europe/Stockholm:20240807T114500
DTSTAMP:20260423T155646
CREATED:20240520T112226Z
LAST-MODIFIED:20240520T112226Z
UID:2000-1723025700-1723031100@www.vasterviksmuseum.se
SUMMARY:Stadsvandring
DESCRIPTION:Vill du veta mer om Västerviks historia?  Följ med på en spännande stadsvandring med Västerviks Museums kunniga guider och hör berättelser om staden\, husen\noch människorna. \nPris:\nVuxen: 135 kr\nUngdom 12-18 år: 70kr\nBarn under 12 år – fri entré utan platsbokning.\n\nKöp biljett: \nVästerviks Museum\nTuristbyrån\nNortic.se
URL:https://www.vasterviksmuseum.se/event/stadsvandring-13/
LOCATION:Rådhusets trappa (Turistbyrån)\, Stora torget 4\, Rådhuset\, Västervik\, 593 33
CATEGORIES:Stadsvandring
ATTACH;FMTTYPE=image/jpeg:https://www.vasterviksmuseum.se/wp-content/uploads/2023/07/A0P1229.jpg
END:VEVENT
BEGIN:VEVENT
DTSTART;TZID=Europe/Stockholm:20240731T101500
DTEND;TZID=Europe/Stockholm:20240731T114500
DTSTAMP:20260423T155646
CREATED:20240520T112135Z
LAST-MODIFIED:20240520T112135Z
UID:1998-1722420900-1722426300@www.vasterviksmuseum.se
SUMMARY:Stadsvandring
DESCRIPTION:Vill du veta mer om Västerviks historia?  Följ med på en spännande stadsvandring med Västerviks Museums kunniga guider och hör berättelser om staden\, husen\noch människorna. \nPris:\nVuxen: 135 kr\nUngdom 12-18 år: 70kr\nBarn under 12 år – fri entré utan platsbokning.\n\nKöp biljett: \nVästerviks Museum\nTuristbyrån\nNortic.se
URL:https://www.vasterviksmuseum.se/event/stadsvandring-12/
LOCATION:Rådhusets trappa (Turistbyrån)\, Stora torget 4\, Rådhuset\, Västervik\, 593 33
CATEGORIES:Stadsvandring
ATTACH;FMTTYPE=image/jpeg:https://www.vasterviksmuseum.se/wp-content/uploads/2023/07/A0P1229.jpg
END:VEVENT
BEGIN:VEVENT
DTSTART;TZID=Europe/Stockholm:20240728T130000
DTEND;TZID=Europe/Stockholm:20240728T190000
DTSTAMP:20260423T155646
CREATED:20240318T085036Z
LAST-MODIFIED:20240426T080655Z
UID:1816-1722171600-1722193200@www.vasterviksmuseum.se
SUMMARY:Konsert: Alice Babs - En unik musikalisk resa
DESCRIPTION:Kliv in i en värld av folkparksnostalgi och musik! Upplev en unik livekonsert där Titti Sjöblom och Ehrling Eliasson\, tar dig med på en musikalisk resa i Alice Babs fotspår.\nTa chansen att upptäcka den legendariska Alice Babs genom unika föremål och berättelser i jubileumsutställningen Alice Babs – Född till musik\, och njut av Titti Sjöbloms & Ehrling Eliassons hyllningskonsert till stjärnan som blev en av Sveriges mest älskade musikaliska ikoner. Se den hyllade konsertfilmen Swingtime again\, ta en fika\, mingla med likasinnade och pröva lyckan i tombolan. Allt i en miljö full av folkparksnostalgi\, chokladhjul och musikglädje. \n28/7\nInsläpp: 13.00\nKonsert: 14.00 – 15.00 (Gradängerna – Utomhusscen)\nStängning: 19.00 \nBiljetter:\n• Nortic.se\n• Turistbyrån\n• Västerviks Museum \nVuxen: 375kr\nBarn 3 -15 år: 20 kr
URL:https://www.vasterviksmuseum.se/event/konsert-event-alice-babs-en-unik-musikalisk-resa/
ATTACH;FMTTYPE=image/jpeg:https://www.vasterviksmuseum.se/wp-content/uploads/2024/03/2024-07-28-Marknadsforing5.jpg
END:VEVENT
BEGIN:VEVENT
DTSTART;TZID=Europe/Stockholm:20240724T101500
DTEND;TZID=Europe/Stockholm:20240724T114500
DTSTAMP:20260423T155646
CREATED:20240520T112050Z
LAST-MODIFIED:20240520T112050Z
UID:1996-1721816100-1721821500@www.vasterviksmuseum.se
SUMMARY:Stadsvandring
DESCRIPTION:Vill du veta mer om Västerviks historia?  Följ med på en spännande stadsvandring med Västerviks Museums kunniga guider och hör berättelser om staden\, husen\noch människorna. \nPris:\nVuxen: 135 kr\nUngdom 12-18 år: 70kr\nBarn under 12 år – fri entré utan platsbokning.\n\nKöp biljett: \nVästerviks Museum\nTuristbyrån\nNortic.se
URL:https://www.vasterviksmuseum.se/event/stadsvandring-11/
LOCATION:Rådhusets trappa (Turistbyrån)\, Stora torget 4\, Rådhuset\, Västervik\, 593 33
CATEGORIES:Stadsvandring
ATTACH;FMTTYPE=image/jpeg:https://www.vasterviksmuseum.se/wp-content/uploads/2023/07/A0P1229.jpg
END:VEVENT
BEGIN:VEVENT
DTSTART;TZID=Europe/Stockholm:20240719T101500
DTEND;TZID=Europe/Stockholm:20240719T114500
DTSTAMP:20260423T155646
CREATED:20240520T111949Z
LAST-MODIFIED:20240520T111949Z
UID:1994-1721384100-1721389500@www.vasterviksmuseum.se
SUMMARY:Stadsvandring
DESCRIPTION:Vill du veta mer om Västerviks historia?  Följ med på en spännande stadsvandring med Västerviks Museums kunniga guider och hör berättelser om staden\, husen\noch människorna. \nPris:\nVuxen: 135 kr\nUngdom 12-18 år: 70kr\nBarn under 12 år – fri entré utan platsbokning.\n\nKöp biljett: \nVästerviks Museum\nTuristbyrån\nNortic.se
URL:https://www.vasterviksmuseum.se/event/stadsvandring-10/
LOCATION:Rådhusets trappa (Turistbyrån)\, Stora torget 4\, Rådhuset\, Västervik\, 593 33
CATEGORIES:Stadsvandring
ATTACH;FMTTYPE=image/jpeg:https://www.vasterviksmuseum.se/wp-content/uploads/2023/07/A0P1229.jpg
END:VEVENT
BEGIN:VEVENT
DTSTART;TZID=Europe/Stockholm:20240717T150000
DTEND;TZID=Europe/Stockholm:20240717T163000
DTSTAMP:20260423T155646
CREATED:20240520T111900Z
LAST-MODIFIED:20240520T111900Z
UID:1992-1721228400-1721233800@www.vasterviksmuseum.se
SUMMARY:Stadsvandring
DESCRIPTION:Vill du veta mer om Västerviks historia?  Följ med på en spännande stadsvandring med Västerviks Museums kunniga guider och hör berättelser om staden\, husen\noch människorna. \nPris:\nVuxen: 135 kr\nUngdom 12-18 år: 70kr\nBarn under 12 år – fri entré utan platsbokning.\n\nKöp biljett: \nVästerviks Museum\nTuristbyrån\nNortic.se
URL:https://www.vasterviksmuseum.se/event/stadsvandring-9/
LOCATION:Rådhusets trappa (Turistbyrån)\, Stora torget 4\, Rådhuset\, Västervik\, 593 33
CATEGORIES:Stadsvandring
ATTACH;FMTTYPE=image/jpeg:https://www.vasterviksmuseum.se/wp-content/uploads/2023/07/A0P1229.jpg
END:VEVENT
BEGIN:VEVENT
DTSTART;TZID=Europe/Stockholm:20240717T101500
DTEND;TZID=Europe/Stockholm:20240717T114500
DTSTAMP:20260423T155646
CREATED:20240520T111807Z
LAST-MODIFIED:20240520T111807Z
UID:1990-1721211300-1721216700@www.vasterviksmuseum.se
SUMMARY:Stadsvandring
DESCRIPTION:Vill du veta mer om Västerviks historia?  Följ med på en spännande stadsvandring med Västerviks Museums kunniga guider och hör berättelser om staden\, husen\noch människorna. \nPris:\nVuxen: 135 kr\nUngdom 12-18 år: 70kr\nBarn under 12 år – fri entré utan platsbokning.\n\nKöp biljett: \nVästerviks Museum\nTuristbyrån\nNortic.se
URL:https://www.vasterviksmuseum.se/event/stadsvandring-8/
LOCATION:Rådhusets trappa (Turistbyrån)\, Stora torget 4\, Rådhuset\, Västervik\, 593 33
CATEGORIES:Stadsvandring
ATTACH;FMTTYPE=image/jpeg:https://www.vasterviksmuseum.se/wp-content/uploads/2023/07/A0P1229.jpg
END:VEVENT
BEGIN:VEVENT
DTSTART;TZID=Europe/Stockholm:20240712T101500
DTEND;TZID=Europe/Stockholm:20240712T114500
DTSTAMP:20260423T155646
CREATED:20240520T111707Z
LAST-MODIFIED:20240520T111707Z
UID:1988-1720779300-1720784700@www.vasterviksmuseum.se
SUMMARY:Stadsvandring
DESCRIPTION:Vill du veta mer om Västerviks historia?  Följ med på en spännande stadsvandring med Västerviks Museums kunniga guider och hör berättelser om staden\, husen\noch människorna. \nPris:\nVuxen: 135 kr\nUngdom 12-18 år: 70kr\nBarn under 12 år – fri entré utan platsbokning.\n\nKöp biljett: \nVästerviks Museum\nTuristbyrån\nNortic.se
URL:https://www.vasterviksmuseum.se/event/stadsvandring-7/
LOCATION:Rådhusets trappa (Turistbyrån)\, Stora torget 4\, Rådhuset\, Västervik\, 593 33
CATEGORIES:Stadsvandring
ATTACH;FMTTYPE=image/jpeg:https://www.vasterviksmuseum.se/wp-content/uploads/2023/07/A0P1229.jpg
END:VEVENT
BEGIN:VEVENT
DTSTART;TZID=Europe/Stockholm:20240710T150000
DTEND;TZID=Europe/Stockholm:20240710T163000
DTSTAMP:20260423T155646
CREATED:20240520T111556Z
LAST-MODIFIED:20240520T111556Z
UID:1986-1720623600-1720629000@www.vasterviksmuseum.se
SUMMARY:Stadsvandring
DESCRIPTION:Vill du veta mer om Västerviks historia?  Följ med på en spännande stadsvandring med Västerviks Museums kunniga guider och hör berättelser om staden\, husen\noch människorna. \nPris:\nVuxen: 135 kr\nUngdom 12-18 år: 70kr\nBarn under 12 år – fri entré utan platsbokning.\n\nKöp biljett: \nVästerviks Museum\nTuristbyrån\nNortic.se
URL:https://www.vasterviksmuseum.se/event/stadsvandring-6/
LOCATION:Rådhusets trappa (Turistbyrån)\, Stora torget 4\, Rådhuset\, Västervik\, 593 33
CATEGORIES:Stadsvandring
ATTACH;FMTTYPE=image/jpeg:https://www.vasterviksmuseum.se/wp-content/uploads/2023/07/A0P1229.jpg
END:VEVENT
BEGIN:VEVENT
DTSTART;TZID=Europe/Stockholm:20240710T101500
DTEND;TZID=Europe/Stockholm:20240710T114500
DTSTAMP:20260423T155646
CREATED:20240520T111506Z
LAST-MODIFIED:20240520T111506Z
UID:1984-1720606500-1720611900@www.vasterviksmuseum.se
SUMMARY:Stadsvandring
DESCRIPTION:Vill du veta mer om Västerviks historia?  Följ med på en spännande stadsvandring med Västerviks Museums kunniga guider och hör berättelser om staden\, husen\noch människorna. \nPris:\nVuxen: 135 kr\nUngdom 12-18 år: 70kr\nBarn under 12 år – fri entré utan platsbokning.\n\nKöp biljett: \nVästerviks Museum\nTuristbyrån\nNortic.se
URL:https://www.vasterviksmuseum.se/event/stadsvandring-5/
LOCATION:Rådhusets trappa (Turistbyrån)\, Stora torget 4\, Rådhuset\, Västervik\, 593 33
CATEGORIES:Stadsvandring
ATTACH;FMTTYPE=image/jpeg:https://www.vasterviksmuseum.se/wp-content/uploads/2023/07/A0P1229.jpg
END:VEVENT
BEGIN:VEVENT
DTSTART;TZID=Europe/Stockholm:20240705T101500
DTEND;TZID=Europe/Stockholm:20240705T114500
DTSTAMP:20260423T155646
CREATED:20240520T111325Z
LAST-MODIFIED:20240530T131106Z
UID:1982-1720174500-1720179900@www.vasterviksmuseum.se
SUMMARY:Stadsvandring
DESCRIPTION:Vill du veta mer om Västerviks historia?  Följ med på en spännande stadsvandring med Västerviks Museums kunniga guider och hör berättelser om staden\, husen\noch människorna. \nPris:\nVuxen: 135 kr\nUngdom 12-18 år: 70kr\nBarn under 12 år – fri entré utan platsbokning.\n\nKöp biljett: \nVästerviks Museum\nTuristbyrån\nNortic.se
URL:https://www.vasterviksmuseum.se/event/sradsvandring/
LOCATION:Rådhusets trappa (Turistbyrån)\, Stora torget 4\, Rådhuset\, Västervik\, 593 33
CATEGORIES:Stadsvandring
ATTACH;FMTTYPE=image/jpeg:https://www.vasterviksmuseum.se/wp-content/uploads/2023/07/A0P1229.jpg
END:VEVENT
END:VCALENDAR